0.3000
0.0000
0.0000
-0.3000
402999.9000
9637000.2000
