0.3000
0.0000
0.0000
-0.3000
402000.0000
9637000.2000
