0.3000
0.0000
0.0000
-0.3000
400999.8000
9637000.2000
