0.3000
0.0000
0.0000
-0.3000
399000.0000
9635000.1000
