0.3000
0.0000
0.0000
-0.3000
397999.8000
9636000.0000
