0.3000
0.0000
0.0000
-0.3000
409999.8000
9649000.2000
