0.3000
0.0000
0.0000
-0.3000
408999.9000
9650000.1000
