0.3000
0.0000
0.0000
-0.3000
415999.8000
9639000.0000
