0.3000
0.0000
0.0000
-0.3000
415999.8000
9638000.1000
