0.3000
0.0000
0.0000
-0.3000
411000.0000
9634000.2000
