0.3000
0.0000
0.0000
-0.3000
414000.0000
9652999.9000
