0.3000
0.0000
0.0000
-0.3000
414999.9000
9644000.1000
