0.3000
0.0000
0.0000
-0.3000
412999.8000
9647000.1000
