0.3000
0.0000
0.0000
-0.3000
411999.9000
9647000.1000
