20.00000000000000
0.00000000000000
0.00000000000000
-20.00000000000000
353710.00000000000000
9667530.00000000000000
