10
0
0
-10
335021.778
9809225.242
