8.33364557581691E-0004
0.00000000000000E+0000
0.00000000000000E+0000
-8.33364557581691E-0004
-6.15651006000000E+0001
-1.09048348000000E+0001
