0.00027741000000
0.00000000000000
0.00000000000000
-0.00027116000000
-49.49992030500000
-14.00010773000000
