0.00027741000000
0.00000000000000
0.00000000000000
-0.00027116000000
-52.50010945500000
-14.00010773000000
