0.00027741000000
0.00000000000000
0.00000000000000
-0.00027116000000
-54.00006532500000
-14.00010773000000
