0.00027741000000
0.00000000000000
0.00000000000000
-0.00027116000000
-61.50012208500000
-13.00006965000000
