0.00027741000000
0.00000000000000
0.00000000000000
-0.00027116000000
-56.99997706500000
-10.99999349000000
