0.00027741000000
0.00000000000000
0.00000000000000
-0.00027116000000
-58.49993293500000
-10.99999349000000
