0.00027741000000
0.00000000000000
0.00000000000000
-0.00027116000000
-59.99988880500001
-10.99999349000000
