15.0000000000
0.0000000000
0.0000000000
-15.0000000000
359700.0000000069
9636400.0000000056
