3.0000000000
0.0000000000
0.0000000000
-3.0000000000
508966.4405460369
9595108.1894008368
