12,5000000000
0,0000000000
0,0000000000
-12,5000000000
496772,0625000000
9601194,5000000000
