92.7257456103
0.0000000000
0.0000000000
-92.7257456103
615160.1353728051
9801722.8899277393
